21.190922
0
0
-21.190922
-694953.749268
-1093626.620434
